BEGIN:VCALENDAR
VERSION:2.0
PRODID:-//Ski - ECPv6.15.20//NONSGML v1.0//EN
CALSCALE:GREGORIAN
METHOD:PUBLISH
X-ORIGINAL-URL:https://www.blau-gelb-gg.de/ski
X-WR-CALDESC:Veranstaltungen für Ski
REFRESH-INTERVAL;VALUE=DURATION:PT1H
X-Robots-Tag:noindex
X-PUBLISHED-TTL:PT1H
BEGIN:VTIMEZONE
TZID:Europe/Berlin
BEGIN:DAYLIGHT
TZOFFSETFROM:+0100
TZOFFSETTO:+0200
TZNAME:CEST
DTSTART:20230326T010000
END:DAYLIGHT
BEGIN:STANDARD
TZOFFSETFROM:+0200
TZOFFSETTO:+0100
TZNAME:CET
DTSTART:20231029T010000
END:STANDARD
BEGIN:DAYLIGHT
TZOFFSETFROM:+0100
TZOFFSETTO:+0200
TZNAME:CEST
DTSTART:20240331T010000
END:DAYLIGHT
BEGIN:STANDARD
TZOFFSETFROM:+0200
TZOFFSETTO:+0100
TZNAME:CET
DTSTART:20241027T010000
END:STANDARD
BEGIN:DAYLIGHT
TZOFFSETFROM:+0100
TZOFFSETTO:+0200
TZNAME:CEST
DTSTART:20250330T010000
END:DAYLIGHT
BEGIN:STANDARD
TZOFFSETFROM:+0200
TZOFFSETTO:+0100
TZNAME:CET
DTSTART:20251026T010000
END:STANDARD
END:VTIMEZONE
BEGIN:VEVENT
DTSTART;TZID=Europe/Berlin:20240714T100000
DTEND;TZID=Europe/Berlin:20240714T170000
DTSTAMP:20260424T061540
CREATED:20220411T092040Z
LAST-MODIFIED:20240630T121329Z
UID:5586-1720951200-1720976400@www.blau-gelb-gg.de
SUMMARY:Radtour mit Ulla und Bernd am 14.07.24
DESCRIPTION:Hallo \nliebe Wanderer\, Skifahrer und Freunde der Ski-Abteilung \nam Sonntag\, den 14.07.2024  \nstarten wir zu unserer ersten Radtour.  \nAbfahrtszeit ist 10:00 Uhr am Marktplatz Groß-Gerau. \nWir fahren über Büttelborn und Griesheim nach Weiterstadt ins  \n„Restaurant Aulenberg“ Am Aulenberg 2 \nDort machen wir unsere Mittagsrast. Die Speisekarte bietet Gerichte für den kleinen und großen Hunger. \nDanach geht es zurück nach Groß-Gerau. Die Gesamtstecke beträgt ca. 30 km. \n Wir freuen uns auch über Gäste\, die nur zum Mittagessen kommen. \nBei schlechtem Wetter fahren wir um 12:00 Uhr ab Marktplatz zum Mittagessen. Wir freuen uns auf Eure Teilnahme. Anmeldung bis 11.07.24 um 18.00 Uhr erforderlich! \nunter Tel. Nr. 06152/7031 oder E-Mail:  bbulli@t-online.de \nGruß \nUlla und Bernd  \n 
URL:https://www.blau-gelb-gg.de/ski/termin/radtour-mit-gisela/
LOCATION:Marktplatz\, Am Marktplatz\, Groß-Gerau\, 64521\, Deutschland
END:VEVENT
END:VCALENDAR