BEGIN:VCALENDAR
VERSION:2.0
PRODID:-//Ski - ECPv6.15.20//NONSGML v1.0//EN
CALSCALE:GREGORIAN
METHOD:PUBLISH
X-WR-CALNAME:Ski
X-ORIGINAL-URL:https://www.blau-gelb-gg.de/ski
X-WR-CALDESC:Veranstaltungen für Ski
REFRESH-INTERVAL;VALUE=DURATION:PT1H
X-Robots-Tag:noindex
X-PUBLISHED-TTL:PT1H
BEGIN:VTIMEZONE
TZID:Europe/Berlin
BEGIN:DAYLIGHT
TZOFFSETFROM:+0100
TZOFFSETTO:+0200
TZNAME:CEST
DTSTART:20240331T010000
END:DAYLIGHT
BEGIN:STANDARD
TZOFFSETFROM:+0200
TZOFFSETTO:+0100
TZNAME:CET
DTSTART:20241027T010000
END:STANDARD
BEGIN:DAYLIGHT
TZOFFSETFROM:+0100
TZOFFSETTO:+0200
TZNAME:CEST
DTSTART:20250330T010000
END:DAYLIGHT
BEGIN:STANDARD
TZOFFSETFROM:+0200
TZOFFSETTO:+0100
TZNAME:CET
DTSTART:20251026T010000
END:STANDARD
BEGIN:DAYLIGHT
TZOFFSETFROM:+0100
TZOFFSETTO:+0200
TZNAME:CEST
DTSTART:20260329T010000
END:DAYLIGHT
BEGIN:STANDARD
TZOFFSETFROM:+0200
TZOFFSETTO:+0100
TZNAME:CET
DTSTART:20261025T010000
END:STANDARD
END:VTIMEZONE
BEGIN:VEVENT
DTSTART;TZID=Europe/Berlin:20251204T080000
DTEND;TZID=Europe/Berlin:20251204T170000
DTSTAMP:20260421T133331
CREATED:20250815T111912Z
LAST-MODIFIED:20251006T094603Z
UID:5925-1764835200-1764867600@www.blau-gelb-gg.de
SUMMARY:Besuch Weihnachtsmarkt in Limburg am 4.12.25
DESCRIPTION:Einladung\nzum Weihnachtsmarkt in Limburg\nfür alle Wanderer\, Aktiven Skifahrer und Freunde der Ski-Abteilung\nam 04.12.2025\nWir fahren um 13:00 Uhr am Marktplatz Groß Gerau ab.\nDie Heimfahrt ist um 18:30 Uhr geplant.\nBitte schriftlich anmelden.\nAnmeldeschluss ist der 1. November 2025.\nDie Fahrtkosten von 28\,00 € müssen im voraus bei mir bezahlt werden.\nViele Grüße\nRuth\nE-Mail: ruth.homberg@blau-gelb-gg.de
URL:https://www.blau-gelb-gg.de/ski/termin/besuch-weihnachtsmarkt-in-limburg-am-4-12-26/
ORGANIZER;CN="Ruth Homberg":MAILTO:ruth.homberg@blau-gelb-gg.de
END:VEVENT
BEGIN:VEVENT
DTSTART;TZID=Europe/Berlin:20251207T150000
DTEND;TZID=Europe/Berlin:20251207T220000
DTSTAMP:20260421T133331
CREATED:20220411T092400Z
LAST-MODIFIED:20251108T085532Z
UID:5592-1765119600-1765144800@www.blau-gelb-gg.de
SUMMARY:Adventskaffee im Wiesengrund am 07.12.25 um 15.00 Uhr
DESCRIPTION:Einladung zur Weihnachtsfeier/Advendskaffee der Ski-Abteilung \nam Sonntag\, den 7. Dezember 2025 ab 15.00 Uhr \nim Saal der Gaststätte Wiesengrund\, Breitenbrücker Weg 30\, in Gross-Gerau \nBegrüßung durch den Abteilungsvorstand \nKaffee und Kuchen (übernimmt die Skiabteilung) \nRahmenprogramm \nAnmeldung zwecks Vorbereitung und Planung bis spätestens 1.12.25 \nFrank Lochmann\, E-Mail frank.lochmann@blau-gelb-gg.de\, 06152 188895 oder 0171 2071799 \nÜber Euerer zahlreiches Kommen würden wir uns freuen. \nDER ABTEILUNGSVORSTAND \n  \n 
URL:https://www.blau-gelb-gg.de/ski/termin/advendskaffee-im-dorfgemeinschaftshaus-berkack/
END:VEVENT
END:VCALENDAR